BEGIN:VCALENDAR
VERSION:2.0
PRODID:-//https://colchester.ca//NONSGML kigkonsult.se iCalcreator 2.29.29/
 /
CALSCALE:GREGORIAN
METHOD:PUBLISH
UID:7d699aef-e5cc-496f-b161-12250f74342b
X-WR-CALNAME:JCal Pro Calendar
X-WR-CALDESC:Your online events calendar
X-WR-TIMEZONE:America/Halifax
BEGIN:VTIMEZONE
TZID:America/Halifax
BEGIN:STANDARD
TZNAME:AST
DTSTART:20251102T020000
TZOFFSETFROM:-0300
TZOFFSETTO:-0400
RDATE:20261101T020000
END:STANDARD
BEGIN:DAYLIGHT
TZNAME:ADT
DTSTART:20260308T020000
TZOFFSETFROM:-0400
TZOFFSETTO:-0300
RDATE:20270314T020000
END:DAYLIGHT
END:VTIMEZONE
BEGIN:VEVENT
UID:20260427T180000ADT-49625IH6u5@https://www.colchester.ca/
DTSTAMP:20260426T010801Z
CATEGORIES:Council Meeting
DTSTART;TZID=America/Halifax:20260427T180000
DTEND;TZID=America/Halifax:20260427T210000
SUMMARY:Council
URL:https://colchester.ca/15-council-meeting/291-council
END:VEVENT
BEGIN:VEVENT
UID:20260528T180000ADT-8817ZV51gB@https://www.colchester.ca/
DTSTAMP:20260426T010801Z
CATEGORIES:Council Meeting
DTSTART;TZID=America/Halifax:20260528T180000
DTEND;TZID=America/Halifax:20260528T210000
SUMMARY:Council
URL:https://colchester.ca/15-council-meeting/292-council
END:VEVENT
BEGIN:VEVENT
UID:20260625T180000ADT-0657e9Zvbf@https://www.colchester.ca/
DTSTAMP:20260426T010801Z
CATEGORIES:Council Meeting
DTSTART;TZID=America/Halifax:20260625T180000
DTEND;TZID=America/Halifax:20260625T210000
SUMMARY:Council
URL:https://colchester.ca/15-council-meeting/293-council
END:VEVENT
BEGIN:VEVENT
UID:20260827T180000ADT-4123KfCDT5@https://www.colchester.ca/
DTSTAMP:20260426T010801Z
CATEGORIES:Council Meeting
DTSTART;TZID=America/Halifax:20260827T180000
DTEND;TZID=America/Halifax:20260827T210000
SUMMARY:Council
URL:https://colchester.ca/15-council-meeting/294-council
END:VEVENT
BEGIN:VEVENT
UID:20260924T180000ADT-0109JXvC8e@https://www.colchester.ca/
DTSTAMP:20260426T010801Z
CATEGORIES:Council Meeting
DTSTART;TZID=America/Halifax:20260924T180000
DTEND;TZID=America/Halifax:20260924T210000
SUMMARY:Council
URL:https://colchester.ca/15-council-meeting/295-council
END:VEVENT
BEGIN:VEVENT
UID:20261029T180000ADT-1646ZhPe4p@https://www.colchester.ca/
DTSTAMP:20260426T010801Z
CATEGORIES:Council Meeting
DTSTART;TZID=America/Halifax:20261029T180000
DTEND;TZID=America/Halifax:20261029T210000
SUMMARY:Council
URL:https://colchester.ca/15-council-meeting/296-council
END:VEVENT
BEGIN:VEVENT
UID:20261126T180000AST-16438UJBBH@https://www.colchester.ca/
DTSTAMP:20260426T010801Z
CATEGORIES:Council Meeting
DTSTART;TZID=America/Halifax:20261126T180000
DTEND;TZID=America/Halifax:20261126T210000
SUMMARY:Council
URL:https://colchester.ca/15-council-meeting/297-council
END:VEVENT
BEGIN:VEVENT
UID:20270128T180000AST-6587NpZ6wu@https://www.colchester.ca/
DTSTAMP:20260426T010801Z
CATEGORIES:Council Meeting
DTSTART;TZID=America/Halifax:20270128T180000
DTEND;TZID=America/Halifax:20270128T210000
SUMMARY:Council
URL:https://colchester.ca/15-council-meeting/298-council
END:VEVENT
BEGIN:VEVENT
UID:20260225T180000AST-8864VPIUAe@https://www.colchester.ca/
DTSTAMP:20260426T010801Z
CATEGORIES:Council Meeting
DTSTART;TZID=America/Halifax:20270225T180000
DTEND;TZID=America/Halifax:20270225T210000
SUMMARY:Council
URL:https://colchester.ca/15-council-meeting/299-council
END:VEVENT
BEGIN:VEVENT
UID:20270325T180000ADT-6864xJT1TU@https://www.colchester.ca/
DTSTAMP:20260426T010801Z
CATEGORIES:Council Meeting
DTSTART;TZID=America/Halifax:20270325T180000
DTEND;TZID=America/Halifax:20270325T210000
SUMMARY:Council
URL:https://colchester.ca/15-council-meeting/300-council
END:VEVENT
END:VCALENDAR
