BEGIN:VCALENDAR
VERSION:2.0
PRODID:-//https://colchester.ca//NONSGML kigkonsult.se iCalcreator 2.29.29/
 /
CALSCALE:GREGORIAN
METHOD:PUBLISH
UID:2a3d9dd9-0047-407d-b8da-fa6ebe2f6343
X-WR-CALNAME:JCal Pro Calendar
X-WR-CALDESC:Your online events calendar
X-WR-TIMEZONE:America/Halifax
BEGIN:VTIMEZONE
TZID:America/Halifax
BEGIN:STANDARD
TZNAME:AST
DTSTART:20251102T020000
TZOFFSETFROM:-0300
TZOFFSETTO:-0400
RDATE:20261101T020000
END:STANDARD
BEGIN:DAYLIGHT
TZNAME:ADT
DTSTART:20260308T020000
TZOFFSETFROM:-0400
TZOFFSETTO:-0300
RDATE:20270314T020000
END:DAYLIGHT
END:VTIMEZONE
BEGIN:VEVENT
UID:20260505T060000ADT-0536M9vVwO@https://www.colchester.ca/
DTSTAMP:20260426T011349Z
CATEGORIES:Committee Meetings
DTSTART;TZID=America/Halifax:20260505T180000
DTEND;TZID=America/Halifax:20260505T200000
SUMMARY:Presentations Meeting
URL:https://colchester.ca/34-committee-meetings/270-presentations-meeting
END:VEVENT
BEGIN:VEVENT
UID:20260514T180000ADT-5918a8CKu7@https://www.colchester.ca/
DTSTAMP:20260426T011349Z
CATEGORIES:Committee Meetings
DTSTART;TZID=America/Halifax:20260514T180000
DTEND;TZID=America/Halifax:20260514T210000
SUMMARY:Council Committee
URL:https://colchester.ca/34-committee-meetings/281-council-committee
END:VEVENT
BEGIN:VEVENT
UID:20260602T180000ADT-73552tKFb7@https://www.colchester.ca/
DTSTAMP:20260426T011349Z
CATEGORIES:Committee Meetings
DTSTART;TZID=America/Halifax:20260602T180000
DTEND;TZID=America/Halifax:20260602T200000
SUMMARY:Presentations Meeting
URL:https://colchester.ca/34-committee-meetings/271-presentations-meeting
END:VEVENT
BEGIN:VEVENT
UID:20260611T180000ADT-6609zGw5fC@https://www.colchester.ca/
DTSTAMP:20260426T011349Z
CATEGORIES:Committee Meetings
DTSTART;TZID=America/Halifax:20260611T180000
DTEND;TZID=America/Halifax:20260611T210000
SUMMARY:Council Committee
URL:https://colchester.ca/34-committee-meetings/282-council-committee
END:VEVENT
BEGIN:VEVENT
UID:20260206T180000AST-9527ovsTij@https://www.colchester.ca/
DTSTAMP:20260426T011349Z
CATEGORIES:Committee Meetings
DTSTART;TZID=America/Halifax:20260804T180000
DTEND;TZID=America/Halifax:20260804T200000
SUMMARY:Presentations Meeting
URL:https://colchester.ca/34-committee-meetings/272-presentations-meeting
END:VEVENT
BEGIN:VEVENT
UID:20260813T180000ADT-12546gZuxG@https://www.colchester.ca/
DTSTAMP:20260426T011349Z
CATEGORIES:Committee Meetings
DTSTART;TZID=America/Halifax:20260813T180000
DTEND;TZID=America/Halifax:20260813T210000
SUMMARY:Council Committee
URL:https://colchester.ca/34-committee-meetings/283-council-committee
END:VEVENT
BEGIN:VEVENT
UID:20260901T180000ADT-5635LxXrfs@https://www.colchester.ca/
DTSTAMP:20260426T011349Z
CATEGORIES:Committee Meetings
DTSTART;TZID=America/Halifax:20260901T180000
DTEND;TZID=America/Halifax:20260901T200000
SUMMARY:Presentations Meeting
URL:https://colchester.ca/34-committee-meetings/273-presentations-meeting
END:VEVENT
BEGIN:VEVENT
UID:20260910T180000ADT-43865SuU2K@https://www.colchester.ca/
DTSTAMP:20260426T011349Z
CATEGORIES:Committee Meetings
DTSTART;TZID=America/Halifax:20260910T180000
DTEND;TZID=America/Halifax:20260910T210000
SUMMARY:Council Committee
URL:https://colchester.ca/34-committee-meetings/284-council-committee
END:VEVENT
BEGIN:VEVENT
UID:20261006T180000ADT-006910RX5X@https://www.colchester.ca/
DTSTAMP:20260426T011349Z
CATEGORIES:Committee Meetings
DTSTART;TZID=America/Halifax:20261006T180000
DTEND;TZID=America/Halifax:20261006T200000
SUMMARY:Presentations Meeting
URL:https://colchester.ca/34-committee-meetings/274-presentations-meeting
END:VEVENT
BEGIN:VEVENT
UID:20261015T180000ADT-1161w0JjSd@https://www.colchester.ca/
DTSTAMP:20260426T011349Z
CATEGORIES:Committee Meetings
DTSTART;TZID=America/Halifax:20261015T180000
DTEND;TZID=America/Halifax:20261015T210000
SUMMARY:Council Committee
URL:https://colchester.ca/34-committee-meetings/285-council-committee
END:VEVENT
BEGIN:VEVENT
UID:20261102T180000AST-8297GlCjLI@https://www.colchester.ca/
DTSTAMP:20260426T011349Z
CATEGORIES:Committee Meetings
DTSTART;TZID=America/Halifax:20261102T180000
DTEND;TZID=America/Halifax:20261102T200000
SUMMARY:Presentations Meeting
URL:https://colchester.ca/34-committee-meetings/275-presentations-meeting
END:VEVENT
BEGIN:VEVENT
UID:20261112T180000AST-4781zF0bV3@https://www.colchester.ca/
DTSTAMP:20260426T011349Z
CATEGORIES:Committee Meetings
DTSTART;TZID=America/Halifax:20261112T180000
DTEND;TZID=America/Halifax:20261112T210000
SUMMARY:Council Committee
URL:https://colchester.ca/34-committee-meetings/286-council-committee
END:VEVENT
BEGIN:VEVENT
UID:20261201T180000AST-8915jKZPow@https://www.colchester.ca/
DTSTAMP:20260426T011349Z
CATEGORIES:Committee Meetings
DTSTART;TZID=America/Halifax:20261201T180000
DTEND;TZID=America/Halifax:20261201T200000
SUMMARY:Presentations Meeting
URL:https://colchester.ca/34-committee-meetings/276-presentations-meeting
END:VEVENT
BEGIN:VEVENT
UID:20261210T180000AST-0333NR01If@https://www.colchester.ca/
DTSTAMP:20260426T011349Z
CATEGORIES:Committee Meetings
DTSTART;TZID=America/Halifax:20261210T180000
DTEND;TZID=America/Halifax:20261210T210000
SUMMARY:Council Committee
URL:https://colchester.ca/34-committee-meetings/287-council-committee
END:VEVENT
BEGIN:VEVENT
UID:20270105T180000AST-87378b67Vt@https://www.colchester.ca/
DTSTAMP:20260426T011349Z
CATEGORIES:Committee Meetings
DTSTART;TZID=America/Halifax:20270105T180000
DTEND;TZID=America/Halifax:20270105T200000
SUMMARY:Presentations Meeting
URL:https://colchester.ca/34-committee-meetings/277-presentations-meeting
END:VEVENT
BEGIN:VEVENT
UID:20270114T180000AST-1971eehKfB@https://www.colchester.ca/
DTSTAMP:20260426T011349Z
CATEGORIES:Committee Meetings
DTSTART;TZID=America/Halifax:20270114T180000
DTEND;TZID=America/Halifax:20270114T210000
SUMMARY:Council Committee
URL:https://colchester.ca/34-committee-meetings/288-council-committee
END:VEVENT
BEGIN:VEVENT
UID:20270202T180000AST-6184huJoBj@https://www.colchester.ca/
DTSTAMP:20260426T011349Z
CATEGORIES:Committee Meetings
DTSTART;TZID=America/Halifax:20270202T180000
DTEND;TZID=America/Halifax:20270202T200000
SUMMARY:Presentations Meeting
URL:https://colchester.ca/34-committee-meetings/278-presentations-meeting
END:VEVENT
BEGIN:VEVENT
UID:20270211T180000AST-7126wa9kki@https://www.colchester.ca/
DTSTAMP:20260426T011349Z
CATEGORIES:Committee Meetings
DTSTART;TZID=America/Halifax:20270211T180000
DTEND;TZID=America/Halifax:20270211T210000
SUMMARY:Council Committee
URL:https://colchester.ca/34-committee-meetings/289-council-committee
END:VEVENT
BEGIN:VEVENT
UID:20270302T180000AST-40662U42De@https://www.colchester.ca/
DTSTAMP:20260426T011349Z
CATEGORIES:Committee Meetings
DTSTART;TZID=America/Halifax:20270302T180000
DTEND;TZID=America/Halifax:20270302T200000
SUMMARY:Presentations Meeting
URL:https://colchester.ca/34-committee-meetings/279-presentations-meeting
END:VEVENT
BEGIN:VEVENT
UID:20270311T180000AST-1618L0E2FZ@https://www.colchester.ca/
DTSTAMP:20260426T011349Z
CATEGORIES:Committee Meetings
DTSTART;TZID=America/Halifax:20270311T180000
DTEND;TZID=America/Halifax:20270311T210000
SUMMARY:Council Committee
URL:https://colchester.ca/34-committee-meetings/290-council-committee
END:VEVENT
END:VCALENDAR
